BEGIN:VCALENDAR
VERSION:2.0
PRODID:-//My Calendar//http://www.joedolson.com//v3.2.15//EN
METHOD:PUBLISH
CALSCALE:GREGORIAN
X-WR-CALNAME:U3A Atherton Tablelands
X-PUBLISHED-TTL:PT24H
REFRESH-INTERVAL;VALUE=DURATION:PT24H
X-WR-CALDESC:Events from U3A Atherton Tablelands
BEGIN:VEVENT
UID:474-55
LOCATION:Glyn Davies Room (Room 22) 42 Mabel Street Room 22 Atherton Qld 4883
SUMMARY:"Is there Life Beyond Death?"
DTSTAMP:20210217T140000
ORGANIZER;CN=courses:MAILTO:coursesu3aat@gmail.com
DTSTART;TZID=Australia/Brisbane:20210217T140000
DTEND;TZID=Australia/Brisbane:20210217T153000
URL;VALUE=URI:https://athtablands.u3anet.org.au/my-calendar/
DESCRIPTION:A 10 week course presented by Viviana Verheesen.  Wednesday afternoons from 2pm, starting on the 17th February 2021.This course views some of the latest talks by Medical Dcotors, Nuerosurgeons, Scientists and others on the subject of life beyond death.  For more information and to enrol, go to the Health &amp; Wellbeing tab under Courses for 2021. 
CATEGORIES:Health and Wellbeing
END:VEVENT
BEGIN:VEVENT
UID:475-55
LOCATION:Glyn Davies Room (Room 22) 42 Mabel Street Room 22 Atherton Qld 4883
SUMMARY:"Is there Life Beyond Death?"
DTSTAMP:20210224T140000
ORGANIZER;CN=courses:MAILTO:coursesu3aat@gmail.com
DTSTART;TZID=Australia/Brisbane:20210224T140000
DTEND;TZID=Australia/Brisbane:20210224T153000
URL;VALUE=URI:https://athtablands.u3anet.org.au/my-calendar/
DESCRIPTION:A 10 week course presented by Viviana Verheesen.  Wednesday afternoons from 2pm, starting on the 17th February 2021.This course views some of the latest talks by Medical Dcotors, Nuerosurgeons, Scientists and others on the subject of life beyond death.  For more information and to enrol, go to the Health &amp; Wellbeing tab under Courses for 2021. 
CATEGORIES:Health and Wellbeing
END:VEVENT
BEGIN:VEVENT
UID:476-55
LOCATION:Glyn Davies Room (Room 22) 42 Mabel Street Room 22 Atherton Qld 4883
SUMMARY:"Is there Life Beyond Death?"
DTSTAMP:20210303T140000
ORGANIZER;CN=courses:MAILTO:coursesu3aat@gmail.com
DTSTART;TZID=Australia/Brisbane:20210303T140000
DTEND;TZID=Australia/Brisbane:20210303T153000
URL;VALUE=URI:https://athtablands.u3anet.org.au/my-calendar/
DESCRIPTION:A 10 week course presented by Viviana Verheesen.  Wednesday afternoons from 2pm, starting on the 17th February 2021.This course views some of the latest talks by Medical Dcotors, Nuerosurgeons, Scientists and others on the subject of life beyond death.  For more information and to enrol, go to the Health &amp; Wellbeing tab under Courses for 2021. 
CATEGORIES:Health and Wellbeing
END:VEVENT
BEGIN:VEVENT
UID:477-55
LOCATION:Glyn Davies Room (Room 22) 42 Mabel Street Room 22 Atherton Qld 4883
SUMMARY:"Is there Life Beyond Death?"
DTSTAMP:20210310T140000
ORGANIZER;CN=courses:MAILTO:coursesu3aat@gmail.com
DTSTART;TZID=Australia/Brisbane:20210310T140000
DTEND;TZID=Australia/Brisbane:20210310T153000
URL;VALUE=URI:https://athtablands.u3anet.org.au/my-calendar/
DESCRIPTION:A 10 week course presented by Viviana Verheesen.  Wednesday afternoons from 2pm, starting on the 17th February 2021.This course views some of the latest talks by Medical Dcotors, Nuerosurgeons, Scientists and others on the subject of life beyond death.  For more information and to enrol, go to the Health &amp; Wellbeing tab under Courses for 2021. 
CATEGORIES:Health and Wellbeing
END:VEVENT
BEGIN:VEVENT
UID:454-50
LOCATION:Glyn Davies Room (Room 22) 42 Mabel Street Room 22 Atherton Qld 4883
SUMMARY:Mental Health for Older Adults
DTSTAMP:20210317T100000
ORGANIZER;CN=courses:MAILTO:coursesu3aat@gmail.com
DTSTART;TZID=Australia/Brisbane:20210317T100000
DTEND;TZID=Australia/Brisbane:20210317T113000
URL;VALUE=URI:https://athtablands.u3anet.org.au/my-calendar/
DESCRIPTION:Trish Johnson, Psychologist, will give a presentation in Room 22 at 10.00am on Wednesday, 3rd March 2021.  After the events of 2020, this topic could not be more relevant, so please enrol under "Health and Wellbeing" if you would like to attend. 
CATEGORIES:Health and Wellbeing
END:VEVENT
BEGIN:VEVENT
UID:478-55
LOCATION:Glyn Davies Room (Room 22) 42 Mabel Street Room 22 Atherton Qld 4883
SUMMARY:"Is there Life Beyond Death?"
DTSTAMP:20210317T140000
ORGANIZER;CN=courses:MAILTO:coursesu3aat@gmail.com
DTSTART;TZID=Australia/Brisbane:20210317T140000
DTEND;TZID=Australia/Brisbane:20210317T153000
URL;VALUE=URI:https://athtablands.u3anet.org.au/my-calendar/
DESCRIPTION:A 10 week course presented by Viviana Verheesen.  Wednesday afternoons from 2pm, starting on the 17th February 2021.This course views some of the latest talks by Medical Dcotors, Nuerosurgeons, Scientists and others on the subject of life beyond death.  For more information and to enrol, go to the Health &amp; Wellbeing tab under Courses for 2021. 
CATEGORIES:Health and Wellbeing
END:VEVENT
BEGIN:VEVENT
UID:479-55
LOCATION:Glyn Davies Room (Room 22) 42 Mabel Street Room 22 Atherton Qld 4883
SUMMARY:"Is there Life Beyond Death?"
DTSTAMP:20210324T140000
ORGANIZER;CN=courses:MAILTO:coursesu3aat@gmail.com
DTSTART;TZID=Australia/Brisbane:20210324T140000
DTEND;TZID=Australia/Brisbane:20210324T153000
URL;VALUE=URI:https://athtablands.u3anet.org.au/my-calendar/
DESCRIPTION:A 10 week course presented by Viviana Verheesen.  Wednesday afternoons from 2pm, starting on the 17th February 2021.This course views some of the latest talks by Medical Dcotors, Nuerosurgeons, Scientists and others on the subject of life beyond death.  For more information and to enrol, go to the Health &amp; Wellbeing tab under Courses for 2021. 
CATEGORIES:Health and Wellbeing
END:VEVENT
END:VCALENDAR