BEGIN:VCALENDAR
VERSION:2.0
PRODID:-//My Calendar//http://www.joedolson.com//v3.2.15//EN
METHOD:PUBLISH
CALSCALE:GREGORIAN
X-WR-CALNAME:U3A Atherton Tablelands
X-PUBLISHED-TTL:PT24H
REFRESH-INTERVAL;VALUE=DURATION:PT24H
X-WR-CALDESC:Events from U3A Atherton Tablelands
BEGIN:VEVENT
UID:432-48
LOCATION:Glyn Davies Room (Room 22) 42 Mabel Street Room 22 Atherton Qld 4883
SUMMARY:Creative Writing Group
DTSTAMP:20210206T140000
ORGANIZER;CN=courses:MAILTO:coursesu3aat@gmail.com
DTSTART;TZID=Australia/Brisbane:20210206T140000
DTEND;TZID=Australia/Brisbane:20210206T160000
URL;VALUE=URI:https://athtablands.u3anet.org.au/my-calendar/
DESCRIPTION:Des O'Neill hosts a creative writing group on the 1st and 3rd Saturdays of the month in 2021, starting on Sat 6th February.  This group is open to all members, it does not matter what level of writing skill you have, all are welcome.  Enrol under "Language and Literature" 
CATEGORIES:Language and Literature
END:VEVENT
BEGIN:VEVENT
UID:443-49
LOCATION:Glyn Davies Room (Room 22) 42 Mabel Street Room 22 Atherton Qld 4883
SUMMARY:Creative Writing Group
DTSTAMP:20210220T140000
ORGANIZER;CN=courses:MAILTO:coursesu3aat@gmail.com
DTSTART;TZID=Australia/Brisbane:20210220T140000
DTEND;TZID=Australia/Brisbane:20210220T160000
URL;VALUE=URI:https://athtablands.u3anet.org.au/my-calendar/
DESCRIPTION:Des O'Neill hosts a creative writing group on the 1st and 3rd Saturdays of the month in 2021, starting on Sat 6th February.  This group is open to all members, it does not matter what level of writing skill you have, all are welcome.  Enrol under "Language and Literature" 
CATEGORIES:Language and Literature
END:VEVENT
BEGIN:VEVENT
UID:433-48
LOCATION:Glyn Davies Room (Room 22) 42 Mabel Street Room 22 Atherton Qld 4883
SUMMARY:Creative Writing Group
DTSTAMP:20210306T140000
ORGANIZER;CN=courses:MAILTO:coursesu3aat@gmail.com
DTSTART;TZID=Australia/Brisbane:20210306T140000
DTEND;TZID=Australia/Brisbane:20210306T160000
URL;VALUE=URI:https://athtablands.u3anet.org.au/my-calendar/
DESCRIPTION:Des O'Neill hosts a creative writing group on the 1st and 3rd Saturdays of the month in 2021, starting on Sat 6th February.  This group is open to all members, it does not matter what level of writing skill you have, all are welcome.  Enrol under "Language and Literature" 
CATEGORIES:Language and Literature
END:VEVENT
BEGIN:VEVENT
UID:264-17
LOCATION:Glyn Davies Room (Room 22) 42 Mabel Street Room 22 Atherton Qld 4883
SUMMARY:Italian for Beginners
DTSTAMP:20210309T163000
ORGANIZER;CN=courses:MAILTO:coursesu3aat@gmail.com
DTSTART;TZID=Australia/Brisbane:20210309T163000
DTEND;TZID=Australia/Brisbane:20210309T173000
URL;VALUE=URI:https://athtablands.u3anet.org.au/my-calendar/
DESCRIPTION:Presented by Tina HubnerA beginners Italian class concentrating on conversational Italian. Classes run weekly (except for school holidays) until the end of the year.  Please enrol under Language and Literature if you would like to join this class, as it will only go ahead if there is enough interest. 
CATEGORIES:Language and Literature
END:VEVENT
BEGIN:VEVENT
UID:233-8
LOCATION:Glyn Davies Room (Room 22) 42 Mabel Street Room 22 Atherton Qld 4883
SUMMARY:Thursday Book Club
DTSTAMP:20210311T140000
ORGANIZER;CN=courses:MAILTO:coursesu3aat@gmail.com
DTSTART;TZID=Australia/Brisbane:20210311T140000
DTEND;TZID=Australia/Brisbane:20210311T160000
URL;VALUE=URI:https://athtablands.u3anet.org.au/my-calendar/
DESCRIPTION:Hosted by Helen MylesThis group is currently full. You can, however, put your name down on a waitlist by enrolling. 
CATEGORIES:Language and Literature
END:VEVENT
BEGIN:VEVENT
UID:265-17
LOCATION:Glyn Davies Room (Room 22) 42 Mabel Street Room 22 Atherton Qld 4883
SUMMARY:Italian for Beginners
DTSTAMP:20210316T163000
ORGANIZER;CN=courses:MAILTO:coursesu3aat@gmail.com
DTSTART;TZID=Australia/Brisbane:20210316T163000
DTEND;TZID=Australia/Brisbane:20210316T173000
URL;VALUE=URI:https://athtablands.u3anet.org.au/my-calendar/
DESCRIPTION:Presented by Tina HubnerA beginners Italian class concentrating on conversational Italian. Classes run weekly (except for school holidays) until the end of the year.  Please enrol under Language and Literature if you would like to join this class, as it will only go ahead if there is enough interest. 
CATEGORIES:Language and Literature
END:VEVENT
BEGIN:VEVENT
UID:444-49
LOCATION:Glyn Davies Room (Room 22) 42 Mabel Street Room 22 Atherton Qld 4883
SUMMARY:Creative Writing Group
DTSTAMP:20210320T140000
ORGANIZER;CN=courses:MAILTO:coursesu3aat@gmail.com
DTSTART;TZID=Australia/Brisbane:20210320T140000
DTEND;TZID=Australia/Brisbane:20210320T160000
URL;VALUE=URI:https://athtablands.u3anet.org.au/my-calendar/
DESCRIPTION:Des O'Neill hosts a creative writing group on the 1st and 3rd Saturdays of the month in 2021, starting on Sat 6th February.  This group is open to all members, it does not matter what level of writing skill you have, all are welcome.  Enrol under "Language and Literature" 
CATEGORIES:Language and Literature
END:VEVENT
BEGIN:VEVENT
UID:266-17
LOCATION:Glyn Davies Room (Room 22) 42 Mabel Street Room 22 Atherton Qld 4883
SUMMARY:Italian for Beginners
DTSTAMP:20210323T163000
ORGANIZER;CN=courses:MAILTO:coursesu3aat@gmail.com
DTSTART;TZID=Australia/Brisbane:20210323T163000
DTEND;TZID=Australia/Brisbane:20210323T173000
URL;VALUE=URI:https://athtablands.u3anet.org.au/my-calendar/
DESCRIPTION:Presented by Tina HubnerA beginners Italian class concentrating on conversational Italian. Classes run weekly (except for school holidays) until the end of the year.  Please enrol under Language and Literature if you would like to join this class, as it will only go ahead if there is enough interest. 
CATEGORIES:Language and Literature
END:VEVENT
END:VCALENDAR