BEGIN:VCALENDAR
VERSION:2.0
PRODID:-//My Calendar//http://www.joedolson.com//v3.2.15//EN
METHOD:PUBLISH
CALSCALE:GREGORIAN
X-WR-CALNAME:U3A Atherton Tablelands
X-PUBLISHED-TTL:PT24H
REFRESH-INTERVAL;VALUE=DURATION:PT24H
X-WR-CALDESC:Events from U3A Atherton Tablelands
BEGIN:VEVENT
UID:410-33
LOCATION:Glyn Davies Room (Room 22) 42 Mabel Street Room 22 Atherton Qld 4883
SUMMARY:Greeting Card Workshop
DTSTAMP:20210316T093000
ORGANIZER;CN=courses:MAILTO:coursesu3aat@gmail.com
DTSTART;TZID=Australia/Brisbane:20210316T093000
DTEND;TZID=Australia/Brisbane:20210316T120000
URL;VALUE=URI:https://athtablands.u3anet.org.au/my-calendar/
DESCRIPTION:Presented by Ros Bannister and Nicola SchulzWe will be using various techniques including stamping, embossing and layering. Also there is a machine that cuts out all the shapes eliminating tedious scissor work. November will be Christmas cards. All tools and equipment are provided.Cost is $10 to cover materials. Please bring cash on the day. 
CATEGORIES:Crafts
END:VEVENT
END:VCALENDAR