BEGIN:VCALENDAR
VERSION:2.0
PRODID:-//My Calendar//http://www.joedolson.com//v3.2.15//EN
METHOD:PUBLISH
CALSCALE:GREGORIAN
X-WR-CALNAME:U3A Atherton Tablelands
X-PUBLISHED-TTL:PT24H
REFRESH-INTERVAL;VALUE=DURATION:PT24H
X-WR-CALDESC:Events from U3A Atherton Tablelands
BEGIN:VEVENT
UID:431-47
LOCATION:Glyn Davies Room (Room 22) 42 Mabel St  Atherton Queensland 4883
SUMMARY:Cultural Review Group
DTSTAMP:20210202T140000
ORGANIZER;CN=courses:MAILTO:coursesu3aat@gmail.com
DTSTART;TZID=Australia/Brisbane:20210202T140000
DTEND;TZID=Australia/Brisbane:20210202T153000
URL;VALUE=URI:https://athtablands.u3anet.org.au/my-calendar/
DESCRIPTION:Bev Masasso will host a meeting of interested members on Tuesday 2nd Feb, at 2pm, to discuss possible events, movies, books etc for the group in 2021.  The Cultural Review Group will only go ahead in 2021 if enough members express interest, so please enrol and come along to this important meeting. 
CATEGORIES:Culture and History
END:VEVENT
END:VCALENDAR