BEGIN:VCALENDAR
VERSION:2.0
PRODID:-//My Calendar//http://www.joedolson.com//v3.2.15//EN
METHOD:PUBLISH
CALSCALE:GREGORIAN
X-WR-CALNAME:U3A Atherton Tablelands
X-PUBLISHED-TTL:PT24H
REFRESH-INTERVAL;VALUE=DURATION:PT24H
X-WR-CALDESC:Events from U3A Atherton Tablelands
BEGIN:VEVENT
UID:13-1
LOCATION:Platypus Park Herberton Road  Atherton Qld 4883
SUMMARY:Walking Group
DTSTAMP:20210203T073000
ORGANIZER;CN=courses:MAILTO:coursesu3aat@gmail.com
DTSTART;TZID=Australia/Brisbane:20210203T073000
DTEND;TZID=Australia/Brisbane:20210203T083000
URL;VALUE=URI:https://athtablands.u3anet.org.au/my-calendar/
DESCRIPTION:Hosted by Mary Mahoney A walking group will meet at 7.30am every Wednesday at the Platypus Park carpark, rain, hail or shine!  The walk will take from 40 minutes to 1hour, depending on your preference. 
CATEGORIES:Exercise and Healthy Lifestyle
END:VEVENT
BEGIN:VEVENT
UID:346-25
LOCATION:Glyn Davies Room (Room 22) 42 Mabel Street Room 22 Atherton Qld 4883
SUMMARY:Healthy Lifestyle Group
DTSTAMP:20210203T170000
ORGANIZER;CN=courses:MAILTO:coursesu3aat@gmail.com
DTSTART;TZID=Australia/Brisbane:20210203T170000
DTEND;TZID=Australia/Brisbane:20210203T181500
URL;VALUE=URI:https://athtablands.u3anet.org.au/my-calendar/
DESCRIPTION:Hosted by Debs KerrMeets at Room 22 at 5pm each Wednesday, walk for 20 minutes, followed by discussion, support and tips and tricks, or just come to Room 22 at 5.30pm. 
CATEGORIES:Exercise and Healthy Lifestyle
END:VEVENT
BEGIN:VEVENT
UID:14-1
LOCATION:Platypus Park Herberton Road  Atherton Qld 4883
SUMMARY:Walking Group
DTSTAMP:20210210T073000
ORGANIZER;CN=courses:MAILTO:coursesu3aat@gmail.com
DTSTART;TZID=Australia/Brisbane:20210210T073000
DTEND;TZID=Australia/Brisbane:20210210T083000
URL;VALUE=URI:https://athtablands.u3anet.org.au/my-calendar/
DESCRIPTION:Hosted by Mary Mahoney A walking group will meet at 7.30am every Wednesday at the Platypus Park carpark, rain, hail or shine!  The walk will take from 40 minutes to 1hour, depending on your preference. 
CATEGORIES:Exercise and Healthy Lifestyle
END:VEVENT
BEGIN:VEVENT
UID:347-25
LOCATION:Glyn Davies Room (Room 22) 42 Mabel Street Room 22 Atherton Qld 4883
SUMMARY:Healthy Lifestyle Group
DTSTAMP:20210210T170000
ORGANIZER;CN=courses:MAILTO:coursesu3aat@gmail.com
DTSTART;TZID=Australia/Brisbane:20210210T170000
DTEND;TZID=Australia/Brisbane:20210210T181500
URL;VALUE=URI:https://athtablands.u3anet.org.au/my-calendar/
DESCRIPTION:Hosted by Debs KerrMeets at Room 22 at 5pm each Wednesday, walk for 20 minutes, followed by discussion, support and tips and tricks, or just come to Room 22 at 5.30pm. 
CATEGORIES:Exercise and Healthy Lifestyle
END:VEVENT
BEGIN:VEVENT
UID:15-1
LOCATION:Platypus Park Herberton Road  Atherton Qld 4883
SUMMARY:Walking Group
DTSTAMP:20210217T073000
ORGANIZER;CN=courses:MAILTO:coursesu3aat@gmail.com
DTSTART;TZID=Australia/Brisbane:20210217T073000
DTEND;TZID=Australia/Brisbane:20210217T083000
URL;VALUE=URI:https://athtablands.u3anet.org.au/my-calendar/
DESCRIPTION:Hosted by Mary Mahoney A walking group will meet at 7.30am every Wednesday at the Platypus Park carpark, rain, hail or shine!  The walk will take from 40 minutes to 1hour, depending on your preference. 
CATEGORIES:Exercise and Healthy Lifestyle
END:VEVENT
BEGIN:VEVENT
UID:348-25
LOCATION:Glyn Davies Room (Room 22) 42 Mabel Street Room 22 Atherton Qld 4883
SUMMARY:Healthy Lifestyle Group
DTSTAMP:20210217T170000
ORGANIZER;CN=courses:MAILTO:coursesu3aat@gmail.com
DTSTART;TZID=Australia/Brisbane:20210217T170000
DTEND;TZID=Australia/Brisbane:20210217T181500
URL;VALUE=URI:https://athtablands.u3anet.org.au/my-calendar/
DESCRIPTION:Hosted by Debs KerrMeets at Room 22 at 5pm each Wednesday, walk for 20 minutes, followed by discussion, support and tips and tricks, or just come to Room 22 at 5.30pm. 
CATEGORIES:Exercise and Healthy Lifestyle
END:VEVENT
BEGIN:VEVENT
UID:16-1
LOCATION:Platypus Park Herberton Road  Atherton Qld 4883
SUMMARY:Walking Group
DTSTAMP:20210224T073000
ORGANIZER;CN=courses:MAILTO:coursesu3aat@gmail.com
DTSTART;TZID=Australia/Brisbane:20210224T073000
DTEND;TZID=Australia/Brisbane:20210224T083000
URL;VALUE=URI:https://athtablands.u3anet.org.au/my-calendar/
DESCRIPTION:Hosted by Mary Mahoney A walking group will meet at 7.30am every Wednesday at the Platypus Park carpark, rain, hail or shine!  The walk will take from 40 minutes to 1hour, depending on your preference. 
CATEGORIES:Exercise and Healthy Lifestyle
END:VEVENT
BEGIN:VEVENT
UID:349-25
LOCATION:Glyn Davies Room (Room 22) 42 Mabel Street Room 22 Atherton Qld 4883
SUMMARY:Healthy Lifestyle Group
DTSTAMP:20210224T170000
ORGANIZER;CN=courses:MAILTO:coursesu3aat@gmail.com
DTSTART;TZID=Australia/Brisbane:20210224T170000
DTEND;TZID=Australia/Brisbane:20210224T181500
URL;VALUE=URI:https://athtablands.u3anet.org.au/my-calendar/
DESCRIPTION:Hosted by Debs KerrMeets at Room 22 at 5pm each Wednesday, walk for 20 minutes, followed by discussion, support and tips and tricks, or just come to Room 22 at 5.30pm. 
CATEGORIES:Exercise and Healthy Lifestyle
END:VEVENT
BEGIN:VEVENT
UID:17-1
LOCATION:Platypus Park Herberton Road  Atherton Qld 4883
SUMMARY:Walking Group
DTSTAMP:20210303T073000
ORGANIZER;CN=courses:MAILTO:coursesu3aat@gmail.com
DTSTART;TZID=Australia/Brisbane:20210303T073000
DTEND;TZID=Australia/Brisbane:20210303T083000
URL;VALUE=URI:https://athtablands.u3anet.org.au/my-calendar/
DESCRIPTION:Hosted by Mary Mahoney A walking group will meet at 7.30am every Wednesday at the Platypus Park carpark, rain, hail or shine!  The walk will take from 40 minutes to 1hour, depending on your preference. 
CATEGORIES:Exercise and Healthy Lifestyle
END:VEVENT
BEGIN:VEVENT
UID:350-25
LOCATION:Glyn Davies Room (Room 22) 42 Mabel Street Room 22 Atherton Qld 4883
SUMMARY:Healthy Lifestyle Group
DTSTAMP:20210303T170000
ORGANIZER;CN=courses:MAILTO:coursesu3aat@gmail.com
DTSTART;TZID=Australia/Brisbane:20210303T170000
DTEND;TZID=Australia/Brisbane:20210303T181500
URL;VALUE=URI:https://athtablands.u3anet.org.au/my-calendar/
DESCRIPTION:Hosted by Debs KerrMeets at Room 22 at 5pm each Wednesday, walk for 20 minutes, followed by discussion, support and tips and tricks, or just come to Room 22 at 5.30pm. 
CATEGORIES:Exercise and Healthy Lifestyle
END:VEVENT
BEGIN:VEVENT
UID:18-1
LOCATION:Platypus Park Herberton Road  Atherton Qld 4883
SUMMARY:Walking Group
DTSTAMP:20210310T073000
ORGANIZER;CN=courses:MAILTO:coursesu3aat@gmail.com
DTSTART;TZID=Australia/Brisbane:20210310T073000
DTEND;TZID=Australia/Brisbane:20210310T083000
URL;VALUE=URI:https://athtablands.u3anet.org.au/my-calendar/
DESCRIPTION:Hosted by Mary Mahoney A walking group will meet at 7.30am every Wednesday at the Platypus Park carpark, rain, hail or shine!  The walk will take from 40 minutes to 1hour, depending on your preference. 
CATEGORIES:Exercise and Healthy Lifestyle
END:VEVENT
BEGIN:VEVENT
UID:351-25
LOCATION:Glyn Davies Room (Room 22) 42 Mabel Street Room 22 Atherton Qld 4883
SUMMARY:Healthy Lifestyle Group
DTSTAMP:20210310T170000
ORGANIZER;CN=courses:MAILTO:coursesu3aat@gmail.com
DTSTART;TZID=Australia/Brisbane:20210310T170000
DTEND;TZID=Australia/Brisbane:20210310T181500
URL;VALUE=URI:https://athtablands.u3anet.org.au/my-calendar/
DESCRIPTION:Hosted by Debs KerrMeets at Room 22 at 5pm each Wednesday, walk for 20 minutes, followed by discussion, support and tips and tricks, or just come to Room 22 at 5.30pm. 
CATEGORIES:Exercise and Healthy Lifestyle
END:VEVENT
BEGIN:VEVENT
UID:19-1
LOCATION:Platypus Park Herberton Road  Atherton Qld 4883
SUMMARY:Walking Group
DTSTAMP:20210317T073000
ORGANIZER;CN=courses:MAILTO:coursesu3aat@gmail.com
DTSTART;TZID=Australia/Brisbane:20210317T073000
DTEND;TZID=Australia/Brisbane:20210317T083000
URL;VALUE=URI:https://athtablands.u3anet.org.au/my-calendar/
DESCRIPTION:Hosted by Mary Mahoney A walking group will meet at 7.30am every Wednesday at the Platypus Park carpark, rain, hail or shine!  The walk will take from 40 minutes to 1hour, depending on your preference. 
CATEGORIES:Exercise and Healthy Lifestyle
END:VEVENT
BEGIN:VEVENT
UID:352-25
LOCATION:Glyn Davies Room (Room 22) 42 Mabel Street Room 22 Atherton Qld 4883
SUMMARY:Healthy Lifestyle Group
DTSTAMP:20210317T170000
ORGANIZER;CN=courses:MAILTO:coursesu3aat@gmail.com
DTSTART;TZID=Australia/Brisbane:20210317T170000
DTEND;TZID=Australia/Brisbane:20210317T181500
URL;VALUE=URI:https://athtablands.u3anet.org.au/my-calendar/
DESCRIPTION:Hosted by Debs KerrMeets at Room 22 at 5pm each Wednesday, walk for 20 minutes, followed by discussion, support and tips and tricks, or just come to Room 22 at 5.30pm. 
CATEGORIES:Exercise and Healthy Lifestyle
END:VEVENT
BEGIN:VEVENT
UID:20-1
LOCATION:Platypus Park Herberton Road  Atherton Qld 4883
SUMMARY:Walking Group
DTSTAMP:20210324T073000
ORGANIZER;CN=courses:MAILTO:coursesu3aat@gmail.com
DTSTART;TZID=Australia/Brisbane:20210324T073000
DTEND;TZID=Australia/Brisbane:20210324T083000
URL;VALUE=URI:https://athtablands.u3anet.org.au/my-calendar/
DESCRIPTION:Hosted by Mary Mahoney A walking group will meet at 7.30am every Wednesday at the Platypus Park carpark, rain, hail or shine!  The walk will take from 40 minutes to 1hour, depending on your preference. 
CATEGORIES:Exercise and Healthy Lifestyle
END:VEVENT
BEGIN:VEVENT
UID:353-25
LOCATION:Glyn Davies Room (Room 22) 42 Mabel Street Room 22 Atherton Qld 4883
SUMMARY:Healthy Lifestyle Group
DTSTAMP:20210324T170000
ORGANIZER;CN=courses:MAILTO:coursesu3aat@gmail.com
DTSTART;TZID=Australia/Brisbane:20210324T170000
DTEND;TZID=Australia/Brisbane:20210324T181500
URL;VALUE=URI:https://athtablands.u3anet.org.au/my-calendar/
DESCRIPTION:Hosted by Debs KerrMeets at Room 22 at 5pm each Wednesday, walk for 20 minutes, followed by discussion, support and tips and tricks, or just come to Room 22 at 5.30pm. 
CATEGORIES:Exercise and Healthy Lifestyle
END:VEVENT
END:VCALENDAR