BEGIN:VCALENDAR
VERSION:2.0
PRODID:-//My Calendar//http://www.joedolson.com//v3.2.15//EN
METHOD:PUBLISH
CALSCALE:GREGORIAN
X-WR-CALNAME:U3A Atherton Tablelands
X-PUBLISHED-TTL:PT24H
REFRESH-INTERVAL;VALUE=DURATION:PT24H
X-WR-CALDESC:Events from U3A Atherton Tablelands
BEGIN:VEVENT
UID:71-5
LOCATION:Glyn Davies Room (Room 22) 42 Mabel Street Room 22 Atherton Qld 4883
SUMMARY:Mahjong
DTSTAMP:20210201T093000
ORGANIZER;CN=courses:MAILTO:coursesu3aat@gmail.com
DTSTART;TZID=Australia/Brisbane:20210201T093000
DTEND;TZID=Australia/Brisbane:20210201T120000
URL;VALUE=URI:https://athtablands.u3anet.org.au/my-calendar/
DESCRIPTION:Hosted by MembersMahjong Group is an ongoing group that plays every Monday morning and Friday afternoon. If you like to play cards, perhaps you would like to try Mahjong. Beginners are welcome to come along. If you have a Mahjong set, bring it along and if you would like to read up on the subject, the Mahjong Player's Companion by Patricia A. Thompson &amp; Betty Maloney is recommended. 
CATEGORIES:Games, Cards and Trivia
END:VEVENT
BEGIN:VEVENT
UID:189-7
LOCATION:Glyn Davies Room (Room 22) 42 Mabel Street Room 22 Atherton Qld 4883
SUMMARY:Social Cards Playing Group
DTSTAMP:20210201T140000
ORGANIZER;CN=courses:MAILTO:coursesu3aat@gmail.com
DTSTART;TZID=Australia/Brisbane:20210201T140000
DTEND;TZID=Australia/Brisbane:20210201T160000
URL;VALUE=URI:https://athtablands.u3anet.org.au/my-calendar/
DESCRIPTION:Hosted by various membersA group of players interested in playing Social Cards meet every Monday except the Book Club meeting days (check calendar) at 2.00pm in Room 22 
CATEGORIES:Games, Cards and Trivia
END:VEVENT
BEGIN:VEVENT
UID:131-6
LOCATION:Glyn Davies Room (Room 22) 42 Mabel Street Room 22 Atherton Qld 4883
SUMMARY:Mahjong
DTSTAMP:20210205T130000
ORGANIZER;CN=courses:MAILTO:coursesu3aat@gmail.com
DTSTART;TZID=Australia/Brisbane:20210205T130000
DTEND;TZID=Australia/Brisbane:20210205T150000
URL;VALUE=URI:https://athtablands.u3anet.org.au/my-calendar/
DESCRIPTION:Hosted by MembersMahjong Group is an ongoing group that plays every Monday morning and Friday afternoon. If you like to play cards, perhaps you would like to try Mahjong. Beginners are welcome to come along. If you have a Mahjong set, bring it along and if you would like to read up on the subject, the Mahjong Player's Companion by Patricia A. Thompson &amp; Betty Maloney is recommended. 
CATEGORIES:Games, Cards and Trivia
END:VEVENT
BEGIN:VEVENT
UID:72-5
LOCATION:Glyn Davies Room (Room 22) 42 Mabel Street Room 22 Atherton Qld 4883
SUMMARY:Mahjong
DTSTAMP:20210208T093000
ORGANIZER;CN=courses:MAILTO:coursesu3aat@gmail.com
DTSTART;TZID=Australia/Brisbane:20210208T093000
DTEND;TZID=Australia/Brisbane:20210208T120000
URL;VALUE=URI:https://athtablands.u3anet.org.au/my-calendar/
DESCRIPTION:Hosted by MembersMahjong Group is an ongoing group that plays every Monday morning and Friday afternoon. If you like to play cards, perhaps you would like to try Mahjong. Beginners are welcome to come along. If you have a Mahjong set, bring it along and if you would like to read up on the subject, the Mahjong Player's Companion by Patricia A. Thompson &amp; Betty Maloney is recommended. 
CATEGORIES:Games, Cards and Trivia
END:VEVENT
BEGIN:VEVENT
UID:190-7
LOCATION:Glyn Davies Room (Room 22) 42 Mabel Street Room 22 Atherton Qld 4883
SUMMARY:Social Cards Playing Group
DTSTAMP:20210208T140000
ORGANIZER;CN=courses:MAILTO:coursesu3aat@gmail.com
DTSTART;TZID=Australia/Brisbane:20210208T140000
DTEND;TZID=Australia/Brisbane:20210208T160000
URL;VALUE=URI:https://athtablands.u3anet.org.au/my-calendar/
DESCRIPTION:Hosted by various membersA group of players interested in playing Social Cards meet every Monday except the Book Club meeting days (check calendar) at 2.00pm in Room 22 
CATEGORIES:Games, Cards and Trivia
END:VEVENT
BEGIN:VEVENT
UID:132-6
LOCATION:Glyn Davies Room (Room 22) 42 Mabel Street Room 22 Atherton Qld 4883
SUMMARY:Mahjong
DTSTAMP:20210212T130000
ORGANIZER;CN=courses:MAILTO:coursesu3aat@gmail.com
DTSTART;TZID=Australia/Brisbane:20210212T130000
DTEND;TZID=Australia/Brisbane:20210212T150000
URL;VALUE=URI:https://athtablands.u3anet.org.au/my-calendar/
DESCRIPTION:Hosted by MembersMahjong Group is an ongoing group that plays every Monday morning and Friday afternoon. If you like to play cards, perhaps you would like to try Mahjong. Beginners are welcome to come along. If you have a Mahjong set, bring it along and if you would like to read up on the subject, the Mahjong Player's Companion by Patricia A. Thompson &amp; Betty Maloney is recommended. 
CATEGORIES:Games, Cards and Trivia
END:VEVENT
BEGIN:VEVENT
UID:73-5
LOCATION:Glyn Davies Room (Room 22) 42 Mabel Street Room 22 Atherton Qld 4883
SUMMARY:Mahjong
DTSTAMP:20210215T093000
ORGANIZER;CN=courses:MAILTO:coursesu3aat@gmail.com
DTSTART;TZID=Australia/Brisbane:20210215T093000
DTEND;TZID=Australia/Brisbane:20210215T120000
URL;VALUE=URI:https://athtablands.u3anet.org.au/my-calendar/
DESCRIPTION:Hosted by MembersMahjong Group is an ongoing group that plays every Monday morning and Friday afternoon. If you like to play cards, perhaps you would like to try Mahjong. Beginners are welcome to come along. If you have a Mahjong set, bring it along and if you would like to read up on the subject, the Mahjong Player's Companion by Patricia A. Thompson &amp; Betty Maloney is recommended. 
CATEGORIES:Games, Cards and Trivia
END:VEVENT
BEGIN:VEVENT
UID:191-7
LOCATION:Glyn Davies Room (Room 22) 42 Mabel Street Room 22 Atherton Qld 4883
SUMMARY:Social Cards Playing Group
DTSTAMP:20210215T140000
ORGANIZER;CN=courses:MAILTO:coursesu3aat@gmail.com
DTSTART;TZID=Australia/Brisbane:20210215T140000
DTEND;TZID=Australia/Brisbane:20210215T160000
URL;VALUE=URI:https://athtablands.u3anet.org.au/my-calendar/
DESCRIPTION:Hosted by various membersA group of players interested in playing Social Cards meet every Monday except the Book Club meeting days (check calendar) at 2.00pm in Room 22 
CATEGORIES:Games, Cards and Trivia
END:VEVENT
BEGIN:VEVENT
UID:133-6
LOCATION:Glyn Davies Room (Room 22) 42 Mabel Street Room 22 Atherton Qld 4883
SUMMARY:Mahjong
DTSTAMP:20210219T130000
ORGANIZER;CN=courses:MAILTO:coursesu3aat@gmail.com
DTSTART;TZID=Australia/Brisbane:20210219T130000
DTEND;TZID=Australia/Brisbane:20210219T150000
URL;VALUE=URI:https://athtablands.u3anet.org.au/my-calendar/
DESCRIPTION:Hosted by MembersMahjong Group is an ongoing group that plays every Monday morning and Friday afternoon. If you like to play cards, perhaps you would like to try Mahjong. Beginners are welcome to come along. If you have a Mahjong set, bring it along and if you would like to read up on the subject, the Mahjong Player's Companion by Patricia A. Thompson &amp; Betty Maloney is recommended. 
CATEGORIES:Games, Cards and Trivia
END:VEVENT
BEGIN:VEVENT
UID:74-5
LOCATION:Glyn Davies Room (Room 22) 42 Mabel Street Room 22 Atherton Qld 4883
SUMMARY:Mahjong
DTSTAMP:20210222T093000
ORGANIZER;CN=courses:MAILTO:coursesu3aat@gmail.com
DTSTART;TZID=Australia/Brisbane:20210222T093000
DTEND;TZID=Australia/Brisbane:20210222T120000
URL;VALUE=URI:https://athtablands.u3anet.org.au/my-calendar/
DESCRIPTION:Hosted by MembersMahjong Group is an ongoing group that plays every Monday morning and Friday afternoon. If you like to play cards, perhaps you would like to try Mahjong. Beginners are welcome to come along. If you have a Mahjong set, bring it along and if you would like to read up on the subject, the Mahjong Player's Companion by Patricia A. Thompson &amp; Betty Maloney is recommended. 
CATEGORIES:Games, Cards and Trivia
END:VEVENT
BEGIN:VEVENT
UID:192-7
LOCATION:Glyn Davies Room (Room 22) 42 Mabel Street Room 22 Atherton Qld 4883
SUMMARY:Social Cards Playing Group
DTSTAMP:20210222T140000
ORGANIZER;CN=courses:MAILTO:coursesu3aat@gmail.com
DTSTART;TZID=Australia/Brisbane:20210222T140000
DTEND;TZID=Australia/Brisbane:20210222T160000
URL;VALUE=URI:https://athtablands.u3anet.org.au/my-calendar/
DESCRIPTION:Hosted by various membersA group of players interested in playing Social Cards meet every Monday except the Book Club meeting days (check calendar) at 2.00pm in Room 22 
CATEGORIES:Games, Cards and Trivia
END:VEVENT
BEGIN:VEVENT
UID:134-6
LOCATION:Glyn Davies Room (Room 22) 42 Mabel Street Room 22 Atherton Qld 4883
SUMMARY:Mahjong
DTSTAMP:20210226T130000
ORGANIZER;CN=courses:MAILTO:coursesu3aat@gmail.com
DTSTART;TZID=Australia/Brisbane:20210226T130000
DTEND;TZID=Australia/Brisbane:20210226T150000
URL;VALUE=URI:https://athtablands.u3anet.org.au/my-calendar/
DESCRIPTION:Hosted by MembersMahjong Group is an ongoing group that plays every Monday morning and Friday afternoon. If you like to play cards, perhaps you would like to try Mahjong. Beginners are welcome to come along. If you have a Mahjong set, bring it along and if you would like to read up on the subject, the Mahjong Player's Companion by Patricia A. Thompson &amp; Betty Maloney is recommended. 
CATEGORIES:Games, Cards and Trivia
END:VEVENT
BEGIN:VEVENT
UID:75-5
LOCATION:Glyn Davies Room (Room 22) 42 Mabel Street Room 22 Atherton Qld 4883
SUMMARY:Mahjong
DTSTAMP:20210301T093000
ORGANIZER;CN=courses:MAILTO:coursesu3aat@gmail.com
DTSTART;TZID=Australia/Brisbane:20210301T093000
DTEND;TZID=Australia/Brisbane:20210301T120000
URL;VALUE=URI:https://athtablands.u3anet.org.au/my-calendar/
DESCRIPTION:Hosted by MembersMahjong Group is an ongoing group that plays every Monday morning and Friday afternoon. If you like to play cards, perhaps you would like to try Mahjong. Beginners are welcome to come along. If you have a Mahjong set, bring it along and if you would like to read up on the subject, the Mahjong Player's Companion by Patricia A. Thompson &amp; Betty Maloney is recommended. 
CATEGORIES:Games, Cards and Trivia
END:VEVENT
BEGIN:VEVENT
UID:193-7
LOCATION:Glyn Davies Room (Room 22) 42 Mabel Street Room 22 Atherton Qld 4883
SUMMARY:Social Cards Playing Group
DTSTAMP:20210301T140000
ORGANIZER;CN=courses:MAILTO:coursesu3aat@gmail.com
DTSTART;TZID=Australia/Brisbane:20210301T140000
DTEND;TZID=Australia/Brisbane:20210301T160000
URL;VALUE=URI:https://athtablands.u3anet.org.au/my-calendar/
DESCRIPTION:Hosted by various membersA group of players interested in playing Social Cards meet every Monday except the Book Club meeting days (check calendar) at 2.00pm in Room 22 
CATEGORIES:Games, Cards and Trivia
END:VEVENT
BEGIN:VEVENT
UID:135-6
LOCATION:Glyn Davies Room (Room 22) 42 Mabel Street Room 22 Atherton Qld 4883
SUMMARY:Mahjong
DTSTAMP:20210305T130000
ORGANIZER;CN=courses:MAILTO:coursesu3aat@gmail.com
DTSTART;TZID=Australia/Brisbane:20210305T130000
DTEND;TZID=Australia/Brisbane:20210305T150000
URL;VALUE=URI:https://athtablands.u3anet.org.au/my-calendar/
DESCRIPTION:Hosted by MembersMahjong Group is an ongoing group that plays every Monday morning and Friday afternoon. If you like to play cards, perhaps you would like to try Mahjong. Beginners are welcome to come along. If you have a Mahjong set, bring it along and if you would like to read up on the subject, the Mahjong Player's Companion by Patricia A. Thompson &amp; Betty Maloney is recommended. 
CATEGORIES:Games, Cards and Trivia
END:VEVENT
BEGIN:VEVENT
UID:76-5
LOCATION:Glyn Davies Room (Room 22) 42 Mabel Street Room 22 Atherton Qld 4883
SUMMARY:Mahjong
DTSTAMP:20210308T093000
ORGANIZER;CN=courses:MAILTO:coursesu3aat@gmail.com
DTSTART;TZID=Australia/Brisbane:20210308T093000
DTEND;TZID=Australia/Brisbane:20210308T120000
URL;VALUE=URI:https://athtablands.u3anet.org.au/my-calendar/
DESCRIPTION:Hosted by MembersMahjong Group is an ongoing group that plays every Monday morning and Friday afternoon. If you like to play cards, perhaps you would like to try Mahjong. Beginners are welcome to come along. If you have a Mahjong set, bring it along and if you would like to read up on the subject, the Mahjong Player's Companion by Patricia A. Thompson &amp; Betty Maloney is recommended. 
CATEGORIES:Games, Cards and Trivia
END:VEVENT
BEGIN:VEVENT
UID:194-7
LOCATION:Glyn Davies Room (Room 22) 42 Mabel Street Room 22 Atherton Qld 4883
SUMMARY:Social Cards Playing Group
DTSTAMP:20210308T140000
ORGANIZER;CN=courses:MAILTO:coursesu3aat@gmail.com
DTSTART;TZID=Australia/Brisbane:20210308T140000
DTEND;TZID=Australia/Brisbane:20210308T160000
URL;VALUE=URI:https://athtablands.u3anet.org.au/my-calendar/
DESCRIPTION:Hosted by various membersA group of players interested in playing Social Cards meet every Monday except the Book Club meeting days (check calendar) at 2.00pm in Room 22 
CATEGORIES:Games, Cards and Trivia
END:VEVENT
BEGIN:VEVENT
UID:136-6
LOCATION:Glyn Davies Room (Room 22) 42 Mabel Street Room 22 Atherton Qld 4883
SUMMARY:Mahjong
DTSTAMP:20210312T130000
ORGANIZER;CN=courses:MAILTO:coursesu3aat@gmail.com
DTSTART;TZID=Australia/Brisbane:20210312T130000
DTEND;TZID=Australia/Brisbane:20210312T150000
URL;VALUE=URI:https://athtablands.u3anet.org.au/my-calendar/
DESCRIPTION:Hosted by MembersMahjong Group is an ongoing group that plays every Monday morning and Friday afternoon. If you like to play cards, perhaps you would like to try Mahjong. Beginners are welcome to come along. If you have a Mahjong set, bring it along and if you would like to read up on the subject, the Mahjong Player's Companion by Patricia A. Thompson &amp; Betty Maloney is recommended. 
CATEGORIES:Games, Cards and Trivia
END:VEVENT
BEGIN:VEVENT
UID:77-5
LOCATION:Glyn Davies Room (Room 22) 42 Mabel Street Room 22 Atherton Qld 4883
SUMMARY:Mahjong
DTSTAMP:20210315T093000
ORGANIZER;CN=courses:MAILTO:coursesu3aat@gmail.com
DTSTART;TZID=Australia/Brisbane:20210315T093000
DTEND;TZID=Australia/Brisbane:20210315T120000
URL;VALUE=URI:https://athtablands.u3anet.org.au/my-calendar/
DESCRIPTION:Hosted by MembersMahjong Group is an ongoing group that plays every Monday morning and Friday afternoon. If you like to play cards, perhaps you would like to try Mahjong. Beginners are welcome to come along. If you have a Mahjong set, bring it along and if you would like to read up on the subject, the Mahjong Player's Companion by Patricia A. Thompson &amp; Betty Maloney is recommended. 
CATEGORIES:Games, Cards and Trivia
END:VEVENT
BEGIN:VEVENT
UID:195-7
LOCATION:Glyn Davies Room (Room 22) 42 Mabel Street Room 22 Atherton Qld 4883
SUMMARY:Social Cards Playing Group
DTSTAMP:20210315T140000
ORGANIZER;CN=courses:MAILTO:coursesu3aat@gmail.com
DTSTART;TZID=Australia/Brisbane:20210315T140000
DTEND;TZID=Australia/Brisbane:20210315T160000
URL;VALUE=URI:https://athtablands.u3anet.org.au/my-calendar/
DESCRIPTION:Hosted by various membersA group of players interested in playing Social Cards meet every Monday except the Book Club meeting days (check calendar) at 2.00pm in Room 22 
CATEGORIES:Games, Cards and Trivia
END:VEVENT
BEGIN:VEVENT
UID:137-6
LOCATION:Glyn Davies Room (Room 22) 42 Mabel Street Room 22 Atherton Qld 4883
SUMMARY:Mahjong
DTSTAMP:20210319T130000
ORGANIZER;CN=courses:MAILTO:coursesu3aat@gmail.com
DTSTART;TZID=Australia/Brisbane:20210319T130000
DTEND;TZID=Australia/Brisbane:20210319T150000
URL;VALUE=URI:https://athtablands.u3anet.org.au/my-calendar/
DESCRIPTION:Hosted by MembersMahjong Group is an ongoing group that plays every Monday morning and Friday afternoon. If you like to play cards, perhaps you would like to try Mahjong. Beginners are welcome to come along. If you have a Mahjong set, bring it along and if you would like to read up on the subject, the Mahjong Player's Companion by Patricia A. Thompson &amp; Betty Maloney is recommended. 
CATEGORIES:Games, Cards and Trivia
END:VEVENT
BEGIN:VEVENT
UID:78-5
LOCATION:Glyn Davies Room (Room 22) 42 Mabel Street Room 22 Atherton Qld 4883
SUMMARY:Mahjong
DTSTAMP:20210322T093000
ORGANIZER;CN=courses:MAILTO:coursesu3aat@gmail.com
DTSTART;TZID=Australia/Brisbane:20210322T093000
DTEND;TZID=Australia/Brisbane:20210322T120000
URL;VALUE=URI:https://athtablands.u3anet.org.au/my-calendar/
DESCRIPTION:Hosted by MembersMahjong Group is an ongoing group that plays every Monday morning and Friday afternoon. If you like to play cards, perhaps you would like to try Mahjong. Beginners are welcome to come along. If you have a Mahjong set, bring it along and if you would like to read up on the subject, the Mahjong Player's Companion by Patricia A. Thompson &amp; Betty Maloney is recommended. 
CATEGORIES:Games, Cards and Trivia
END:VEVENT
BEGIN:VEVENT
UID:196-7
LOCATION:Glyn Davies Room (Room 22) 42 Mabel Street Room 22 Atherton Qld 4883
SUMMARY:Social Cards Playing Group
DTSTAMP:20210322T140000
ORGANIZER;CN=courses:MAILTO:coursesu3aat@gmail.com
DTSTART;TZID=Australia/Brisbane:20210322T140000
DTEND;TZID=Australia/Brisbane:20210322T160000
URL;VALUE=URI:https://athtablands.u3anet.org.au/my-calendar/
DESCRIPTION:Hosted by various membersA group of players interested in playing Social Cards meet every Monday except the Book Club meeting days (check calendar) at 2.00pm in Room 22 
CATEGORIES:Games, Cards and Trivia
END:VEVENT
BEGIN:VEVENT
UID:138-6
LOCATION:Glyn Davies Room (Room 22) 42 Mabel Street Room 22 Atherton Qld 4883
SUMMARY:Mahjong
DTSTAMP:20210326T130000
ORGANIZER;CN=courses:MAILTO:coursesu3aat@gmail.com
DTSTART;TZID=Australia/Brisbane:20210326T130000
DTEND;TZID=Australia/Brisbane:20210326T150000
URL;VALUE=URI:https://athtablands.u3anet.org.au/my-calendar/
DESCRIPTION:Hosted by MembersMahjong Group is an ongoing group that plays every Monday morning and Friday afternoon. If you like to play cards, perhaps you would like to try Mahjong. Beginners are welcome to come along. If you have a Mahjong set, bring it along and if you would like to read up on the subject, the Mahjong Player's Companion by Patricia A. Thompson &amp; Betty Maloney is recommended. 
CATEGORIES:Games, Cards and Trivia
END:VEVENT
END:VCALENDAR