BEGIN:VCALENDAR
VERSION:2.0
PRODID:-//My Calendar//http://www.joedolson.com//v3.2.15//EN
METHOD:PUBLISH
CALSCALE:GREGORIAN
X-WR-CALNAME:U3A Atherton Tablelands
X-PUBLISHED-TTL:PT24H
REFRESH-INTERVAL;VALUE=DURATION:PT24H
X-WR-CALDESC:Events from U3A Atherton Tablelands
BEGIN:VEVENT
UID:253-16
LOCATION:Various
SUMMARY:Hardy Perennials - a morning in a friends garden
DTSTAMP:20210311T093000
ORGANIZER;CN=courses:MAILTO:coursesu3aat@gmail.com
DTSTART;TZID=Australia/Brisbane:20210311T093000
DTEND;TZID=Australia/Brisbane:20210311T113000
URL;VALUE=URI:https://athtablands.u3anet.org.au/my-calendar/
DESCRIPTION:Hosted by various membersA social gardening group that meets on the second Thursday of each month. Bring a portable chair, a mug and a plate of food to share for morning tea. Things to share: plants, seeds, green or brown fingers, gardening problems. 
CATEGORIES:Gardening
END:VEVENT
END:VCALENDAR